BEGIN:VCALENDAR
VERSION:2.0
PRODID:-// - ECPv6.15.14//NONSGML v1.0//EN
CALSCALE:GREGORIAN
METHOD:PUBLISH
X-ORIGINAL-URL:https://slav-und-mehr.de
X-WR-CALDESC:Veranstaltungen für 
REFRESH-INTERVAL;VALUE=DURATION:PT1H
X-Robots-Tag:noindex
X-PUBLISHED-TTL:PT1H
BEGIN:VTIMEZONE
TZID:Europe/Berlin
BEGIN:DAYLIGHT
TZOFFSETFROM:+0100
TZOFFSETTO:+0200
TZNAME:CEST
DTSTART:20230326T010000
END:DAYLIGHT
BEGIN:STANDARD
TZOFFSETFROM:+0200
TZOFFSETTO:+0100
TZNAME:CET
DTSTART:20231029T010000
END:STANDARD
BEGIN:DAYLIGHT
TZOFFSETFROM:+0100
TZOFFSETTO:+0200
TZNAME:CEST
DTSTART:20240331T010000
END:DAYLIGHT
BEGIN:STANDARD
TZOFFSETFROM:+0200
TZOFFSETTO:+0100
TZNAME:CET
DTSTART:20241027T010000
END:STANDARD
BEGIN:DAYLIGHT
TZOFFSETFROM:+0100
TZOFFSETTO:+0200
TZNAME:CEST
DTSTART:20250330T010000
END:DAYLIGHT
BEGIN:STANDARD
TZOFFSETFROM:+0200
TZOFFSETTO:+0100
TZNAME:CET
DTSTART:20251026T010000
END:STANDARD
END:VTIMEZONE
BEGIN:VEVENT
DTSTART;TZID=Europe/Berlin:20240611T170000
DTEND;TZID=Europe/Berlin:20240611T180000
DTSTAMP:20260422T202210
CREATED:20240522T144706Z
LAST-MODIFIED:20240522T144706Z
UID:1508-1718125200-1718128800@slav-und-mehr.de
SUMMARY:Dr. Svetlana Sokolova: Learning Grammar in a Strategic Way
DESCRIPTION:Learning Grammar in a Strategic Way: new pedagogical resources for Russian as a Foreign Language \nIm Rahmen unserer digitalen Fortbildungsreihe stellt Frau Dr. Svetlana Sokolova (The Arctic University of Norway / Tromsø) mehrere Ressourcen vor\, die sowohl im schulischen als auch universitären Russischunterricht angewendet werden können. \nDer Vortrag selbst wird auf Russisch gehalten\, die begleitenden Folien (wie auch das Abstract) sind jedoch auf Englisch. \nDer Vortrag findet digital über Zoom statt. Mitglieder haben den Link bereits erhalten. Nicht-Mitglieder dürfen sich gerne anmelden unter: jule.boehmer@uni-hamburg.de
URL:https://slav-und-mehr.de/veranstaltung/dr-svetlana-sokolova-learning-grammar-in-a-strategic-way/
END:VEVENT
END:VCALENDAR